BEGIN:VCALENDAR
VERSION:2.0
PRODID:-//wp-events-plugin.com//7.2.2.1//EN
TZID:Europe/Stockholm
X-WR-TIMEZONE:Europe/Stockholm
BEGIN:VEVENT
UID:15@stdgk.se
DTSTART;TZID=Europe/Stockholm:20250503T160000
DTEND;TZID=Europe/Stockholm:20250503T180000
DTSTAMP:20250423T075727Z
URL:https://stdgk.se/events/regel-quiz/
SUMMARY:Regel quiz
DESCRIPTION:Regelquiz i restaurangen lördag 3 maj kl 16:00-18:00 ca\n\nEtt
  roligt och lättsamt tillfälle att förnya dina regelkunskaper.\n\nJohan
  erbjuder hamburgare med dryck till specialpris:\n\nHamburgare + 1 öl/1 g
 las vin 200 SEK\nHamburgare + 1 alkoholfri dryck 175 SEK\n\nFöranmälan k
 rävs\, meddela på mail eller telefon senast 30 april till klubbchef@stdg
 k.se eller mobil 0705361788
ATTACH;FMTTYPE=image/jpeg:https://stdgk.se/wp-content/uploads/2022/12/MBJ1
 854.jpg
END:VEVENT
BEGIN:VTIMEZONE
TZID:Europe/Stockholm
X-LIC-LOCATION:Europe/Stockholm
BEGIN:DAYLIGHT
DTSTART:20250330T030000
TZOFFSETFROM:+0100
TZOFFSETTO:+0200
TZNAME:CEST
END:DAYLIGHT
END:VTIMEZONE
END:VCALENDAR