BEGIN:VCALENDAR
VERSION:2.0
PRODID:-//wp-events-plugin.com//7.2.2.1//EN
TZID:Europe/Stockholm
X-WR-TIMEZONE:Europe/Stockholm
BEGIN:VEVENT
UID:20@stdgk.se
DTSTART;TZID=Europe/Stockholm:20250916T080000
DTEND;TZID=Europe/Stockholm:20250916T140000
DTSTAMP:20250707T124751Z
URL:https://stdgk.se/events/h70-bdgf-seriespel/
SUMMARY:H70 BDGF SERIESPEL
DESCRIPTION:Tisdag 16 september gästar herrarna från H70 oss för seriesp
 el.
ATTACH;FMTTYPE=image/jpeg:https://stdgk.se/wp-content/uploads/2023/01/Stro
 mstad-Golfklubb-juni-201944.jpg
END:VEVENT
BEGIN:VTIMEZONE
TZID:Europe/Stockholm
X-LIC-LOCATION:Europe/Stockholm
BEGIN:DAYLIGHT
DTSTART:20250330T030000
TZOFFSETFROM:+0100
TZOFFSETTO:+0200
TZNAME:CEST
END:DAYLIGHT
END:VTIMEZONE
END:VCALENDAR