BEGIN:VCALENDAR
VERSION:2.0
PRODID:-//wp-events-plugin.com//7.2.2.1//EN
TZID:Europe/Stockholm
X-WR-TIMEZONE:Europe/Stockholm
BEGIN:VEVENT
UID:2@stdgk.se
DTSTART;TZID=Europe/Stockholm:20230212T000000
DTEND;TZID=Europe/Stockholm:20230214T000000
DTSTAMP:20230210T082858Z
URL:https://stdgk.se/events/evenemang-2/
SUMMARY:Evenemang 2
DESCRIPTION:
ATTACH;FMTTYPE=image/jpeg:https://stdgk.se/wp-content/uploads/2022/12/6426
 4315_2329491230419868_8211654196353564672_n.png
END:VEVENT
BEGIN:VTIMEZONE
TZID:Europe/Stockholm
X-LIC-LOCATION:Europe/Stockholm
BEGIN:STANDARD
DTSTART:20221030T020000
TZOFFSETFROM:+0200
TZOFFSETTO:+0100
TZNAME:CET
END:STANDARD
END:VTIMEZONE
END:VCALENDAR