BEGIN:VCALENDAR
VERSION:2.0
PRODID:-//wp-events-plugin.com//7.2.2.1//EN
TZID:Europe/Stockholm
X-WR-TIMEZONE:Europe/Stockholm
BEGIN:VEVENT
UID:7@stdgk.se
DTSTART;TZID=Europe/Stockholm:20240616T100000
DTEND;TZID=Europe/Stockholm:20240616T160000
DTSTAMP:20240612T075134Z
URL:https://stdgk.se/events/cobra-fitting-day/
SUMMARY:Cobra Fitting Day
DESCRIPTION:Söndag 16 juni kl 10-16 kommer Cobra till oss med deras nya DA
 RKSPEED. Boka en tid för custom fitting med deras expert i shopen eller p
 å mail pro.stdgk@gmail.com
END:VEVENT
BEGIN:VTIMEZONE
TZID:Europe/Stockholm
X-LIC-LOCATION:Europe/Stockholm
BEGIN:DAYLIGHT
DTSTART:20240331T030000
TZOFFSETFROM:+0100
TZOFFSETTO:+0200
TZNAME:CEST
END:DAYLIGHT
END:VTIMEZONE
END:VCALENDAR