BEGIN:VCALENDAR
VERSION:2.0
PRODID:-//wp-events-plugin.com//7.2.2.1//EN
TZID:Europe/Stockholm
X-WR-TIMEZONE:Europe/Stockholm
BEGIN:VEVENT
UID:5@stdgk.se
DTSTART;TZID=Europe/Stockholm:20240604T083000
DTEND;TZID=Europe/Stockholm:20240604T150000
DTSTAMP:20240528T122202Z
URL:https://stdgk.se/events/bdgf-seriespel-h80/
SUMMARY:BDGF Seriespel H80
DESCRIPTION:Tisdag 4 juni välkomnar vi herrarna från H80 välkomna till o
 ss för seriespel.\nFörsta start kl 08:30 från Hål 1 och Hål 10
ATTACH;FMTTYPE=image/jpeg:https://stdgk.se/wp-content/uploads/2022/12/HAL-
 6.jpg
END:VEVENT
BEGIN:VTIMEZONE
TZID:Europe/Stockholm
X-LIC-LOCATION:Europe/Stockholm
BEGIN:DAYLIGHT
DTSTART:20240331T030000
TZOFFSETFROM:+0100
TZOFFSETTO:+0200
TZNAME:CEST
END:DAYLIGHT
END:VTIMEZONE
END:VCALENDAR