BEGIN:VCALENDAR
VERSION:2.0
PRODID:-//wp-events-plugin.com//7.2.2.1//EN
TZID:Europe/Stockholm
X-WR-TIMEZONE:Europe/Stockholm
BEGIN:VEVENT
UID:11@stdgk.se
DTSTART;TZID=Europe/Stockholm:20250329T140000
DTEND;TZID=Europe/Stockholm:20250329T160000
DTSTAMP:20250109T075147Z
URL:https://stdgk.se/events/arsmote-29-mars/
SUMMARY:Årsmöte 29 mars
DESCRIPTION:Årsmöte lördag 29 mars kl 14:00 på Strömstad Golfklubb\n\n
 Eventuella motioner från medlemmar ska vara styrelsen tillhanda senast fy
 ra (4) veckor före årsmötet.\nFöredragningslista samt möteshandlingar
  publiceras på hemsidan och i medlemsbrev till angiven e-postadress i med
 lemsregistret senast tre (3) veckor före årsmötet.
ATTACH;FMTTYPE=image/jpeg:https://stdgk.se/wp-content/uploads/2024/12/Stro
 mstad-Golfklubb-juni-201923.jpg
END:VEVENT
BEGIN:VTIMEZONE
TZID:Europe/Stockholm
X-LIC-LOCATION:Europe/Stockholm
BEGIN:STANDARD
DTSTART:20241027T020000
TZOFFSETFROM:+0200
TZOFFSETTO:+0100
TZNAME:CET
END:STANDARD
END:VTIMEZONE
END:VCALENDAR